BEGIN:VCALENDAR
VERSION:2.0
PRODID:-//Goldgrube//myauktion.com//AT
CALSCALE:GREGORIAN
BEGIN:VEVENT
DTSTART:20260505T110100
DTEND:20260505T110130
LOCATION:Gewerbepark 13, 8562 Mooskirchen
DTSTAMP:20260421T191052
SUMMARY:MyAuktion: Ablauf Artikel Nr. 956906 CH Battery Charger 90058 
URL;VALUE=URI:https://www.myauktion.com/versteigerung7652-position2442427-ch-battery-charger-90058.php
DESCRIPTION:
UID:myauktion-7652-2442427
BEGIN:VALARM
ACTION:DISPLAY
DESCRIPTION:
TRIGGER:-PT10M
END:VALARM
END:VEVENT
END:VCALENDAR