BEGIN:VCALENDAR
VERSION:2.0
PRODID:-//Goldgrube//myauktion.com//AT
CALSCALE:GREGORIAN
BEGIN:VEVENT
DTSTART:20260505T124800
DTEND:20260505T124830
LOCATION:Gewerbepark 13, 8562 Mooskirchen
DTSTAMP:20260421T191058
SUMMARY:MyAuktion: Ablauf Artikel Nr. 957857 Diverses Kabel Plastik 7/4mm Microfokus Article 
URL;VALUE=URI:https://www.myauktion.com/versteigerung7652-position2442428-diverses-kabel-plastik-7-4mm-microfokus-article.php
DESCRIPTION:Mehr Infos nicht ersichtlich 
UID:myauktion-7652-2442428
BEGIN:VALARM
ACTION:DISPLAY
DESCRIPTION:Mehr Infos nicht ersichtlich 
TRIGGER:-PT10M
END:VALARM
END:VEVENT
END:VCALENDAR