BEGIN:VCALENDAR
VERSION:2.0
PRODID:-//Goldgrube//myauktion.com//AT
CALSCALE:GREGORIAN
BEGIN:VEVENT
DTSTART:20260505T110200
DTEND:20260505T110230
LOCATION:Gewerbepark 13, 8562 Mooskirchen
DTSTAMP:20260421T191056
SUMMARY:MyAuktion: Ablauf Artikel Nr. 956907 Posenpro Angle Grinder PPAG1100/125 
URL;VALUE=URI:https://www.myauktion.com/versteigerung7652-position2442430-posenpro-angle-grinder-ppag1100-125.php
DESCRIPTION:
UID:myauktion-7652-2442430
BEGIN:VALARM
ACTION:DISPLAY
DESCRIPTION:
TRIGGER:-PT10M
END:VALARM
END:VEVENT
END:VCALENDAR