BEGIN:VCALENDAR
VERSION:2.0
PRODID:-//Goldgrube//myauktion.com//AT
CALSCALE:GREGORIAN
BEGIN:VEVENT
DTSTART:20260505T110600
DTEND:20260505T110630
LOCATION:Gewerbepark 13, 8562 Mooskirchen
DTSTAMP:20260421T160737
SUMMARY:MyAuktion: Ablauf Artikel Nr. 956909 Mömax Mirac 29480018-01 weiß/goldfarben 
URL;VALUE=URI:https://www.myauktion.com/versteigerung7652-position2442434-moemax-mirac-29480018-01-weiss-goldfarben.php
DESCRIPTION:Paket 2/3 nicht vollständig!! 
UID:myauktion-7652-2442434
BEGIN:VALARM
ACTION:DISPLAY
DESCRIPTION:Paket 2/3 nicht vollständig!! 
TRIGGER:-PT10M
END:VALARM
END:VEVENT
END:VCALENDAR