BEGIN:VCALENDAR
VERSION:2.0
PRODID:-//Goldgrube//myauktion.com//AT
CALSCALE:GREGORIAN
BEGIN:VEVENT
DTSTART:20260505T125100
DTEND:20260505T125130
LOCATION:Gewerbepark 13, 8562 Mooskirchen
DTSTAMP:20260421T185422
SUMMARY:MyAuktion: Ablauf Artikel Nr. 957860 MUG My love, my Style Katzen Tasse Groß ca 14ø
URL;VALUE=URI:https://www.myauktion.com/versteigerung7652-position2442435-mug-my-love-my-style-katzen-tasse-gross-ca-14.php
DESCRIPTION:
UID:myauktion-7652-2442435
BEGIN:VALARM
ACTION:DISPLAY
DESCRIPTION:
TRIGGER:-PT10M
END:VALARM
END:VEVENT
END:VCALENDAR