BEGIN:VCALENDAR
VERSION:2.0
PRODID:-//Goldgrube//myauktion.com//AT
CALSCALE:GREGORIAN
BEGIN:VEVENT
DTSTART:20260505T110700
DTEND:20260505T110730
LOCATION:Gewerbepark 13, 8562 Mooskirchen
DTSTAMP:20260421T173933
SUMMARY:MyAuktion: Ablauf Artikel Nr. 956910 Xyladecor Aussen Holzschutz Lasur 2in1 Palisander 4L 
URL;VALUE=URI:https://www.myauktion.com/versteigerung7652-position2442436-xyladecor-aussen-holzschutz-lasur-2in1-palisander-4l.php
DESCRIPTION:
UID:myauktion-7652-2442436
BEGIN:VALARM
ACTION:DISPLAY
DESCRIPTION:
TRIGGER:-PT10M
END:VALARM
END:VEVENT
END:VCALENDAR