BEGIN:VCALENDAR
VERSION:2.0
PRODID:-//Goldgrube//myauktion.com//AT
CALSCALE:GREGORIAN
BEGIN:VEVENT
DTSTART:20260505T110800
DTEND:20260505T110830
LOCATION:Gewerbepark 13, 8562 Mooskirchen
DTSTAMP:20260421T191102
SUMMARY:MyAuktion: Ablauf Artikel Nr. 956911 Ikea Smasporre 140x200cm 
URL;VALUE=URI:https://www.myauktion.com/versteigerung7652-position2442437-ikea-smasporre-140x200cm.php
DESCRIPTION:
UID:myauktion-7652-2442437
BEGIN:VALARM
ACTION:DISPLAY
DESCRIPTION:
TRIGGER:-PT10M
END:VALARM
END:VEVENT
END:VCALENDAR