BEGIN:VCALENDAR
VERSION:2.0
PRODID:-//Goldgrube//myauktion.com//AT
CALSCALE:GREGORIAN
BEGIN:VEVENT
DTSTART:20260505T111000
DTEND:20260505T111030
LOCATION:Gewerbepark 13, 8562 Mooskirchen
DTSTAMP:20260421T191054
SUMMARY:MyAuktion: Ablauf Artikel Nr. 956912 Ikea Tagarp 404.863.87 
URL;VALUE=URI:https://www.myauktion.com/versteigerung7652-position2442439-ikea-tagarp-40486387.php
DESCRIPTION:
UID:myauktion-7652-2442439
BEGIN:VALARM
ACTION:DISPLAY
DESCRIPTION:
TRIGGER:-PT10M
END:VALARM
END:VEVENT
END:VCALENDAR