BEGIN:VCALENDAR
VERSION:2.0
PRODID:-//Goldgrube//myauktion.com//AT
CALSCALE:GREGORIAN
BEGIN:VEVENT
DTSTART:20260505T115000
DTEND:20260505T115030
LOCATION:Gewerbepark 13, 8562 Mooskirchen
DTSTAMP:20260421T191055
SUMMARY:MyAuktion: Ablauf Artikel Nr. 957135 Blue Tomato Skateboard Set
URL;VALUE=URI:https://www.myauktion.com/versteigerung7652-position2442440-blue-tomato-skateboard-set.php
DESCRIPTION:Ca 80×21cm
UID:myauktion-7652-2442440
BEGIN:VALARM
ACTION:DISPLAY
DESCRIPTION:Ca 80×21cm
TRIGGER:-PT10M
END:VALARM
END:VEVENT
END:VCALENDAR