BEGIN:VCALENDAR
VERSION:2.0
PRODID:-//Goldgrube//myauktion.com//AT
CALSCALE:GREGORIAN
BEGIN:VEVENT
DTSTART:20260505T111100
DTEND:20260505T111130
LOCATION:Gewerbepark 13, 8562 Mooskirchen
DTSTAMP:20260421T191049
SUMMARY:MyAuktion: Ablauf Artikel Nr. 956913 Gabriel Glas Weingläser Gold Edition 2er Set 
URL;VALUE=URI:https://www.myauktion.com/versteigerung7652-position2442442-gabriel-glas-weinglaeser-gold-edition-2er-set.php
DESCRIPTION:
UID:myauktion-7652-2442442
BEGIN:VALARM
ACTION:DISPLAY
DESCRIPTION:
TRIGGER:-PT10M
END:VALARM
END:VEVENT
END:VCALENDAR