BEGIN:VCALENDAR
VERSION:2.0
PRODID:-//Goldgrube//myauktion.com//AT
CALSCALE:GREGORIAN
BEGIN:VEVENT
DTSTART:20260505T125500
DTEND:20260505T125530
LOCATION:Gewerbepark 13, 8562 Mooskirchen
DTSTAMP:20260421T191057
SUMMARY:MyAuktion: Ablauf Artikel Nr. 957862 New Gift set Exquisite series 6 Stk 
URL;VALUE=URI:https://www.myauktion.com/versteigerung7652-position2442446-new-gift-set-exquisite-series-6-stk.php
DESCRIPTION:
UID:myauktion-7652-2442446
BEGIN:VALARM
ACTION:DISPLAY
DESCRIPTION:
TRIGGER:-PT10M
END:VALARM
END:VEVENT
END:VCALENDAR