BEGIN:VCALENDAR
VERSION:2.0
PRODID:-//Goldgrube//myauktion.com//AT
CALSCALE:GREGORIAN
BEGIN:VEVENT
DTSTART:20260505T111500
DTEND:20260505T111530
LOCATION:Gewerbepark 13, 8562 Mooskirchen
DTSTAMP:20260421T191057
SUMMARY:MyAuktion: Ablauf Artikel Nr. 956917 Microwave Shelf 
URL;VALUE=URI:https://www.myauktion.com/versteigerung7652-position2442450-microwave-shelf.php
DESCRIPTION:Keine weiteren Daten ersichtlich
UID:myauktion-7652-2442450
BEGIN:VALARM
ACTION:DISPLAY
DESCRIPTION:Keine weiteren Daten ersichtlich
TRIGGER:-PT10M
END:VALARM
END:VEVENT
END:VCALENDAR