BEGIN:VCALENDAR
VERSION:2.0
PRODID:-//Goldgrube//myauktion.com//AT
CALSCALE:GREGORIAN
BEGIN:VEVENT
DTSTART:20260505T122600
DTEND:20260505T122630
LOCATION:Gewerbepark 13, 8562 Mooskirchen
DTSTAMP:20260421T191050
SUMMARY:MyAuktion: Ablauf Artikel Nr. 957606 AstroAi Mini Kühlschrank 
URL;VALUE=URI:https://www.myauktion.com/versteigerung7652-position2442451-astroai-mini-kuehlschrank.php
DESCRIPTION:<div>Gebraucht ,Funktion nicht geprüft. Ca. 18x26x24cm</div>
UID:myauktion-7652-2442451
BEGIN:VALARM
ACTION:DISPLAY
DESCRIPTION:<div>Gebraucht ,Funktion nicht geprüft. Ca. 18x26x24cm</div>
TRIGGER:-PT10M
END:VALARM
END:VEVENT
END:VCALENDAR