BEGIN:VCALENDAR
VERSION:2.0
PRODID:-//Goldgrube//myauktion.com//AT
CALSCALE:GREGORIAN
BEGIN:VEVENT
DTSTART:20260505T115200
DTEND:20260505T115230
LOCATION:Gewerbepark 13, 8562 Mooskirchen
DTSTAMP:20260421T191102
SUMMARY:MyAuktion: Ablauf Artikel Nr. 957137 Diverse Holzbastel-Elemente
URL;VALUE=URI:https://www.myauktion.com/versteigerung7652-position2442452-diverse-holzbastel-elemente.php
DESCRIPTION:Stäbe ca 50cm lang, Quader ca 10×5cm
UID:myauktion-7652-2442452
BEGIN:VALARM
ACTION:DISPLAY
DESCRIPTION:Stäbe ca 50cm lang, Quader ca 10×5cm
TRIGGER:-PT10M
END:VALARM
END:VEVENT
END:VCALENDAR