BEGIN:VCALENDAR
VERSION:2.0
PRODID:-//Goldgrube//myauktion.com//AT
CALSCALE:GREGORIAN
BEGIN:VEVENT
DTSTART:20260505T125600
DTEND:20260505T125630
LOCATION:Gewerbepark 13, 8562 Mooskirchen
DTSTAMP:20260421T191101
SUMMARY:MyAuktion: Ablauf Artikel Nr. 957863 Emme Better Home Better Life Baumwolle- Musslindecke Hellbraun Standard 100
URL;VALUE=URI:https://www.myauktion.com/versteigerung7652-position2442453-emme-better-home-better-life-baumwolle-musslindecke-hellbraun-standard-100.php
DESCRIPTION:Keine Maße ersichtlich 
UID:myauktion-7652-2442453
BEGIN:VALARM
ACTION:DISPLAY
DESCRIPTION:Keine Maße ersichtlich 
TRIGGER:-PT10M
END:VALARM
END:VEVENT
END:VCALENDAR