BEGIN:VCALENDAR
VERSION:2.0
PRODID:-//Goldgrube//myauktion.com//AT
CALSCALE:GREGORIAN
BEGIN:VEVENT
DTSTART:20260505T122700
DTEND:20260505T122730
LOCATION:Gewerbepark 13, 8562 Mooskirchen
DTSTAMP:20260421T180857
SUMMARY:MyAuktion: Ablauf Artikel Nr. 957607 Scheinwerfer Abdeckung
URL;VALUE=URI:https://www.myauktion.com/versteigerung7652-position2442454-scheinwerfer-abdeckung.php
DESCRIPTION:Ca. 40x25cm 
UID:myauktion-7652-2442454
BEGIN:VALARM
ACTION:DISPLAY
DESCRIPTION:Ca. 40x25cm 
TRIGGER:-PT10M
END:VALARM
END:VEVENT
END:VCALENDAR