BEGIN:VCALENDAR
VERSION:2.0
PRODID:-//Goldgrube//myauktion.com//AT
CALSCALE:GREGORIAN
BEGIN:VEVENT
DTSTART:20260505T125700
DTEND:20260505T125730
LOCATION:Gewerbepark 13, 8562 Mooskirchen
DTSTAMP:20260421T191053
SUMMARY:MyAuktion: Ablauf Artikel Nr. 957864 Emme Baumwolldecke 
URL;VALUE=URI:https://www.myauktion.com/versteigerung7652-position2442456-emme-baumwolldecke.php
DESCRIPTION:Größe nicht ersichtlich 
UID:myauktion-7652-2442456
BEGIN:VALARM
ACTION:DISPLAY
DESCRIPTION:Größe nicht ersichtlich 
TRIGGER:-PT10M
END:VALARM
END:VEVENT
END:VCALENDAR