BEGIN:VCALENDAR
VERSION:2.0
PRODID:-//Goldgrube//myauktion.com//AT
CALSCALE:GREGORIAN
BEGIN:VEVENT
DTSTART:20260505T115300
DTEND:20260505T115330
LOCATION:Gewerbepark 13, 8562 Mooskirchen
DTSTAMP:20260421T191052
SUMMARY:MyAuktion: Ablauf Artikel Nr. 957138 Haskyy Rolle Klebegewichte Silber mit Abrisskante
URL;VALUE=URI:https://www.myauktion.com/versteigerung7652-position2442457-haskyy-rolle-klebegewichte-silber-mit-abrisskante.php
DESCRIPTION:1200×5g (6kg), verzinkt & pulverbeschichtet
UID:myauktion-7652-2442457
BEGIN:VALARM
ACTION:DISPLAY
DESCRIPTION:1200×5g (6kg), verzinkt & pulverbeschichtet
TRIGGER:-PT10M
END:VALARM
END:VEVENT
END:VCALENDAR