BEGIN:VCALENDAR
VERSION:2.0
PRODID:-//Goldgrube//myauktion.com//AT
CALSCALE:GREGORIAN
BEGIN:VEVENT
DTSTART:20260505T115400
DTEND:20260505T115430
LOCATION:Gewerbepark 13, 8562 Mooskirchen
DTSTAMP:20260421T191055
SUMMARY:MyAuktion: Ablauf Artikel Nr. 957139 Wechselspitze für einen Pflug stärke 15mm
URL;VALUE=URI:https://www.myauktion.com/versteigerung7652-position2442458-wechselspitze-fuer-einen-pflug-staerke-15mm.php
DESCRIPTION:Ausführung Rechts, Vergleichsnummer 622174
UID:myauktion-7652-2442458
BEGIN:VALARM
ACTION:DISPLAY
DESCRIPTION:Ausführung Rechts, Vergleichsnummer 622174
TRIGGER:-PT10M
END:VALARM
END:VEVENT
END:VCALENDAR