BEGIN:VCALENDAR
VERSION:2.0
PRODID:-//Goldgrube//myauktion.com//AT
CALSCALE:GREGORIAN
BEGIN:VEVENT
DTSTART:20260505T111700
DTEND:20260505T111730
LOCATION:Gewerbepark 13, 8562 Mooskirchen
DTSTAMP:20260421T191054
SUMMARY:MyAuktion: Ablauf Artikel Nr. 956919 Clayre&Eef Nussknacker ca. 58cm 
URL;VALUE=URI:https://www.myauktion.com/versteigerung7652-position2442459-clayre-38eef-nussknacker-ca-58cm.php
DESCRIPTION:
UID:myauktion-7652-2442459
BEGIN:VALARM
ACTION:DISPLAY
DESCRIPTION:
TRIGGER:-PT10M
END:VALARM
END:VEVENT
END:VCALENDAR