BEGIN:VCALENDAR
VERSION:2.0
PRODID:-//Goldgrube//myauktion.com//AT
CALSCALE:GREGORIAN
BEGIN:VEVENT
DTSTART:20260505T115600
DTEND:20260505T115630
LOCATION:Gewerbepark 13, 8562 Mooskirchen
DTSTAMP:20260421T191054
SUMMARY:MyAuktion: Ablauf Artikel Nr. 957140 Dyson V12 detect slim 
URL;VALUE=URI:https://www.myauktion.com/versteigerung7652-position2442460-dyson-v12-detect-slim.php
DESCRIPTION:
UID:myauktion-7652-2442460
BEGIN:VALARM
ACTION:DISPLAY
DESCRIPTION:
TRIGGER:-PT10M
END:VALARM
END:VEVENT
END:VCALENDAR