BEGIN:VCALENDAR
VERSION:2.0
PRODID:-//Goldgrube//myauktion.com//AT
CALSCALE:GREGORIAN
BEGIN:VEVENT
DTSTART:20260505T115700
DTEND:20260505T115730
LOCATION:Gewerbepark 13, 8562 Mooskirchen
DTSTAMP:20260421T191050
SUMMARY:MyAuktion: Ablauf Artikel Nr. 957141 Gardena NatureLine Spatengabel 
URL;VALUE=URI:https://www.myauktion.com/versteigerung7652-position2442462-gardena-natureline-spatengabel.php
DESCRIPTION:Gesamtlänge ca. 114,5cm
UID:myauktion-7652-2442462
BEGIN:VALARM
ACTION:DISPLAY
DESCRIPTION:Gesamtlänge ca. 114,5cm
TRIGGER:-PT10M
END:VALARM
END:VEVENT
END:VCALENDAR