BEGIN:VCALENDAR
VERSION:2.0
PRODID:-//Goldgrube//myauktion.com//AT
CALSCALE:GREGORIAN
BEGIN:VEVENT
DTSTART:20260505T122800
DTEND:20260505T122830
LOCATION:Gewerbepark 13, 8562 Mooskirchen
DTSTAMP:20260421T162622
SUMMARY:MyAuktion: Ablauf Artikel Nr. 957608 Wilson  Clash V3 15 PK Racqulet Bag WR8038201001
URL;VALUE=URI:https://www.myauktion.com/versteigerung7652-position2442464-wilson-clash-v3-15-pk-racqulet-bag-wr8038201001.php
DESCRIPTION:
UID:myauktion-7652-2442464
BEGIN:VALARM
ACTION:DISPLAY
DESCRIPTION:
TRIGGER:-PT10M
END:VALARM
END:VEVENT
END:VCALENDAR