BEGIN:VCALENDAR
VERSION:2.0
PRODID:-//Goldgrube//myauktion.com//AT
CALSCALE:GREGORIAN
BEGIN:VEVENT
DTSTART:20260505T090600
DTEND:20260505T090630
LOCATION:Gewerbepark 13, 8562 Mooskirchen
DTSTAMP:20260421T173936
SUMMARY:MyAuktion: Ablauf Artikel Nr. 955757 Depot Baumkugeln 12 Stk Aus Glas 6cm grün 
URL;VALUE=URI:https://www.myauktion.com/versteigerung7652-position2442473-depot-baumkugeln-12-stk-aus-glas-6cm-gruen.php
DESCRIPTION:1 Kugel kaputt 
UID:myauktion-7652-2442473
BEGIN:VALARM
ACTION:DISPLAY
DESCRIPTION:1 Kugel kaputt 
TRIGGER:-PT10M
END:VALARM
END:VEVENT
END:VCALENDAR