BEGIN:VCALENDAR
VERSION:2.0
PRODID:-//Goldgrube//myauktion.com//AT
CALSCALE:GREGORIAN
BEGIN:VEVENT
DTSTART:20260505T114200
DTEND:20260505T114230
LOCATION:Gewerbepark 13, 8562 Mooskirchen
DTSTAMP:20260421T191101
SUMMARY:MyAuktion: Ablauf Artikel Nr. 957129 AeroPor U-Fill SL Leichtzuschlagstoff je 5L
URL;VALUE=URI:https://www.myauktion.com/versteigerung7652-position2442476-aeropor-u-fill-sl-leichtzuschlagstoff-je-5l.php
DESCRIPTION:
UID:myauktion-7652-2442476
BEGIN:VALARM
ACTION:DISPLAY
DESCRIPTION:
TRIGGER:-PT10M
END:VALARM
END:VEVENT
END:VCALENDAR