BEGIN:VCALENDAR
VERSION:2.0
PRODID:-//Goldgrube//myauktion.com//AT
CALSCALE:GREGORIAN
BEGIN:VEVENT
DTSTART:20260505T120400
DTEND:20260505T120430
LOCATION:Gewerbepark 13, 8562 Mooskirchen
DTSTAMP:20260421T191058
SUMMARY:MyAuktion: Ablauf Artikel Nr. 957590 Hempel  Duea Gloss Varnish 750ml 
URL;VALUE=URI:https://www.myauktion.com/versteigerung7652-position2442477-hempel-duea-gloss-varnish-750ml.php
DESCRIPTION:
UID:myauktion-7652-2442477
BEGIN:VALARM
ACTION:DISPLAY
DESCRIPTION:
TRIGGER:-PT10M
END:VALARM
END:VEVENT
END:VCALENDAR