BEGIN:VCALENDAR
VERSION:2.0
PRODID:-//Goldgrube//myauktion.com//AT
CALSCALE:GREGORIAN
BEGIN:VEVENT
DTSTART:20260505T104500
DTEND:20260505T104530
LOCATION:Gewerbepark 13, 8562 Mooskirchen
DTSTAMP:20260421T191100
SUMMARY:MyAuktion: Ablauf Artikel Nr. 956899 Stasto FR01-14-0,5/8 Filterdruckregler 
URL;VALUE=URI:https://www.myauktion.com/versteigerung7652-position2442479-stasto-fr01-14-05-8-filterdruckregler.php
DESCRIPTION:
UID:myauktion-7652-2442479
BEGIN:VALARM
ACTION:DISPLAY
DESCRIPTION:
TRIGGER:-PT10M
END:VALARM
END:VEVENT
END:VCALENDAR