BEGIN:VCALENDAR
VERSION:2.0
PRODID:-//Goldgrube//myauktion.com//AT
CALSCALE:GREGORIAN
BEGIN:VEVENT
DTSTART:20260505T114700
DTEND:20260505T114730
LOCATION:Gewerbepark 13, 8562 Mooskirchen
DTSTAMP:20260421T191057
SUMMARY:MyAuktion: Ablauf Artikel Nr. 957134 K&N Performance Premium Ölfilter 
URL;VALUE=URI:https://www.myauktion.com/versteigerung7652-position2442482-k-38n-performance-premium-lfilter.php
DESCRIPTION:Art. No. Kn-650
UID:myauktion-7652-2442482
BEGIN:VALARM
ACTION:DISPLAY
DESCRIPTION:Art. No. Kn-650
TRIGGER:-PT10M
END:VALARM
END:VEVENT
END:VCALENDAR