BEGIN:VCALENDAR
VERSION:2.0
PRODID:-//Goldgrube//myauktion.com//AT
CALSCALE:GREGORIAN
BEGIN:VEVENT
DTSTART:20260505T110500
DTEND:20260505T110530
LOCATION:Gewerbepark 13, 8562 Mooskirchen
DTSTAMP:20260421T173936
SUMMARY:MyAuktion: Ablauf Artikel Nr. 956908 Dexcom G7 Sensor STP-GT-002 
URL;VALUE=URI:https://www.myauktion.com/versteigerung7652-position2442483-dexcom-g7-sensor-stp-gt-002.php
DESCRIPTION:MHD 30.11.2026 
UID:myauktion-7652-2442483
BEGIN:VALARM
ACTION:DISPLAY
DESCRIPTION:MHD 30.11.2026 
TRIGGER:-PT10M
END:VALARM
END:VEVENT
END:VCALENDAR