BEGIN:VCALENDAR
VERSION:2.0
PRODID:-//Goldgrube//myauktion.com//AT
CALSCALE:GREGORIAN
BEGIN:VEVENT
DTSTART:20260505T110900
DTEND:20260505T110930
LOCATION:Gewerbepark 13, 8562 Mooskirchen
DTSTAMP:20260421T191057
SUMMARY:MyAuktion: Ablauf Artikel Nr. 956912 Ikea Tagarp 404.863.87 
URL;VALUE=URI:https://www.myauktion.com/versteigerung7652-position2442484-ikea-tagarp-40486387.php
DESCRIPTION:
UID:myauktion-7652-2442484
BEGIN:VALARM
ACTION:DISPLAY
DESCRIPTION:
TRIGGER:-PT10M
END:VALARM
END:VEVENT
END:VCALENDAR