BEGIN:VCALENDAR
VERSION:2.0
PRODID:-//Goldgrube//myauktion.com//AT
CALSCALE:GREGORIAN
BEGIN:VEVENT
DTSTART:20260505T125900
DTEND:20260505T125930
LOCATION:Gewerbepark 13, 8562 Mooskirchen
DTSTAMP:20260421T191050
SUMMARY:MyAuktion: Ablauf Artikel Nr. 957865 IKEA Kallax 904.955.96 76x39x18cm Tisch
URL;VALUE=URI:https://www.myauktion.com/versteigerung7652-position2442488-ikea-kallax-90495596-76x39x18cm-tisch.php
DESCRIPTION:
UID:myauktion-7652-2442488
BEGIN:VALARM
ACTION:DISPLAY
DESCRIPTION:
TRIGGER:-PT10M
END:VALARM
END:VEVENT
END:VCALENDAR