BEGIN:VCALENDAR
VERSION:2.0
PRODID:-//Goldgrube//myauktion.com//AT
CALSCALE:GREGORIAN
BEGIN:VEVENT
DTSTART:20260505T094700
DTEND:20260505T094730
LOCATION:Gewerbepark 13, 8562 Mooskirchen
DTSTAMP:20260421T173934
SUMMARY:MyAuktion: Ablauf Artikel Nr. 956857 Ipa Illy Kaffeetassen 12Stk 
URL;VALUE=URI:https://www.myauktion.com/versteigerung7652-position2442490-ipa-illy-kaffeetassen-12stk.php
DESCRIPTION:
UID:myauktion-7652-2442490
BEGIN:VALARM
ACTION:DISPLAY
DESCRIPTION:
TRIGGER:-PT10M
END:VALARM
END:VEVENT
END:VCALENDAR