BEGIN:VCALENDAR
VERSION:2.0
PRODID:-//Goldgrube//myauktion.com//AT
CALSCALE:GREGORIAN
BEGIN:VEVENT
DTSTART:20260505T095000
DTEND:20260505T095030
LOCATION:Gewerbepark 13, 8562 Mooskirchen
DTSTAMP:20260421T173934
SUMMARY:MyAuktion: Ablauf Artikel Nr. 956859 Homonth Car Scratch Remover 100ml 
URL;VALUE=URI:https://www.myauktion.com/versteigerung7652-position2442495-homonth-car-scratch-remover-100ml.php
DESCRIPTION:MHD 05.02.2028 
UID:myauktion-7652-2442495
BEGIN:VALARM
ACTION:DISPLAY
DESCRIPTION:MHD 05.02.2028 
TRIGGER:-PT10M
END:VALARM
END:VEVENT
END:VCALENDAR