BEGIN:VCALENDAR
VERSION:2.0
PRODID:-//Goldgrube//myauktion.com//AT
CALSCALE:GREGORIAN
BEGIN:VEVENT
DTSTART:20260505T092500
DTEND:20260505T092530
LOCATION:Gewerbepark 13, 8562 Mooskirchen
DTSTAMP:20260421T173936
SUMMARY:MyAuktion: Ablauf Artikel Nr. 955802 Sekura Locks for Life KB 204 Zahlenschloss 12mm x 85cm 
URL;VALUE=URI:https://www.myauktion.com/versteigerung7652-position2442500-sekura-locks-for-life-kb-204-zahlenschloss-12mm-x-85cm.php
DESCRIPTION:
UID:myauktion-7652-2442500
BEGIN:VALARM
ACTION:DISPLAY
DESCRIPTION:
TRIGGER:-PT10M
END:VALARM
END:VEVENT
END:VCALENDAR