BEGIN:VCALENDAR
VERSION:2.0
PRODID:-//Goldgrube//myauktion.com//AT
CALSCALE:GREGORIAN
BEGIN:VEVENT
DTSTART:20260505T103000
DTEND:20260505T103030
LOCATION:Gewerbepark 13, 8562 Mooskirchen
DTSTAMP:20260421T191057
SUMMARY:MyAuktion: Ablauf Artikel Nr. 956895 Bambu Lab PLA Wood 1.75mm 330m 1kg Rosewood 
URL;VALUE=URI:https://www.myauktion.com/versteigerung7652-position2442522-bambu-lab-pla-wood-175mm-330m-1kg-rosewood.php
DESCRIPTION:
UID:myauktion-7652-2442522
BEGIN:VALARM
ACTION:DISPLAY
DESCRIPTION:
TRIGGER:-PT10M
END:VALARM
END:VEVENT
END:VCALENDAR