BEGIN:VCALENDAR
VERSION:2.0
PRODID:-//Goldgrube//myauktion.com//AT
CALSCALE:GREGORIAN
BEGIN:VEVENT
DTSTART:20260505T105800
DTEND:20260505T105830
LOCATION:Gewerbepark 13, 8562 Mooskirchen
DTSTAMP:20260421T191049
SUMMARY:MyAuktion: Ablauf Artikel Nr. 956905 Loctite SI 5130 Flächendichtung weiß 80g 
URL;VALUE=URI:https://www.myauktion.com/versteigerung7652-position2442538-loctite-si-5130-flaechendichtung-weiss-80g.php
DESCRIPTION:
UID:myauktion-7652-2442538
BEGIN:VALARM
ACTION:DISPLAY
DESCRIPTION:
TRIGGER:-PT10M
END:VALARM
END:VEVENT
END:VCALENDAR