BEGIN:VCALENDAR
VERSION:2.0
PRODID:-//Goldgrube//myauktion.com//AT
CALSCALE:GREGORIAN
BEGIN:VEVENT
DTSTART:20260505T122200
DTEND:20260505T122230
LOCATION:Gewerbepark 13, 8562 Mooskirchen
DTSTAMP:20260421T191050
SUMMARY:MyAuktion: Ablauf Artikel Nr. 957605 Dmyifan Bilderrahmen 5stk 
URL;VALUE=URI:https://www.myauktion.com/versteigerung7652-position2442542-dmyifan-bilderrahmen-5stk.php
DESCRIPTION:Ca. 20x30cm 
UID:myauktion-7652-2442542
BEGIN:VALARM
ACTION:DISPLAY
DESCRIPTION:Ca. 20x30cm 
TRIGGER:-PT10M
END:VALARM
END:VEVENT
END:VCALENDAR