BEGIN:VCALENDAR
VERSION:2.0
PRODID:-//Goldgrube//myauktion.com//AT
CALSCALE:GREGORIAN
BEGIN:VEVENT
DTSTART:20260506T121600
DTEND:20260506T121630
LOCATION:Gewerbepark 13, 8562 Mooskirchen
DTSTAMP:20260422T224009
SUMMARY:MyAuktion: Ablauf Artikel Nr. 957867 XXXLutz Baby Cot 146x77x10cm Art.Nr: 87980023/02
URL;VALUE=URI:https://www.myauktion.com/versteigerung7656-position2442602-xxxlutz-baby-cot-146x77x10cm-artnr-87980023-02.php
DESCRIPTION:
UID:myauktion-7656-2442602
BEGIN:VALARM
ACTION:DISPLAY
DESCRIPTION:
TRIGGER:-PT10M
END:VALARM
END:VEVENT
END:VCALENDAR