BEGIN:VCALENDAR
VERSION:2.0
PRODID:-//Goldgrube//myauktion.com//AT
CALSCALE:GREGORIAN
BEGIN:VEVENT
DTSTART:20260506T090100
DTEND:20260506T090130
LOCATION:Gewerbepark 13, 8562 Mooskirchen
DTSTAMP:20260422T161436
SUMMARY:MyAuktion: Ablauf Artikel Nr. 956921 Homavo Electric Lifting Desk K2301 white 
URL;VALUE=URI:https://www.myauktion.com/versteigerung7656-position2442603-homavo-electric-lifting-desk-k2301-white.php
DESCRIPTION:Verpackung beschädigt 
UID:myauktion-7656-2442603
BEGIN:VALARM
ACTION:DISPLAY
DESCRIPTION:Verpackung beschädigt 
TRIGGER:-PT10M
END:VALARM
END:VEVENT
END:VCALENDAR