BEGIN:VCALENDAR
VERSION:2.0
PRODID:-//Goldgrube//myauktion.com//AT
CALSCALE:GREGORIAN
BEGIN:VEVENT
DTSTART:20260506T090200
DTEND:20260506T090230
LOCATION:Gewerbepark 13, 8562 Mooskirchen
DTSTAMP:20260422T224008
SUMMARY:MyAuktion: Ablauf Artikel Nr. 956922 XxxLutz Bett 180x200 
URL;VALUE=URI:https://www.myauktion.com/versteigerung7656-position2442605-xxxlutz-bett-180x200.php
DESCRIPTION:Paket 3/3 nicht vollständig!  
UID:myauktion-7656-2442605
BEGIN:VALARM
ACTION:DISPLAY
DESCRIPTION:Paket 3/3 nicht vollständig!  
TRIGGER:-PT10M
END:VALARM
END:VEVENT
END:VCALENDAR