BEGIN:VCALENDAR
VERSION:2.0
PRODID:-//Goldgrube//myauktion.com//AT
CALSCALE:GREGORIAN
BEGIN:VEVENT
DTSTART:20260506T090300
DTEND:20260506T090330
LOCATION:Gewerbepark 13, 8562 Mooskirchen
DTSTAMP:20260422T161436
SUMMARY:MyAuktion: Ablauf Artikel Nr. 956923 Ikea Platsa weiß 60x55x120cm 503.309.46 
URL;VALUE=URI:https://www.myauktion.com/versteigerung7656-position2442606-ikea-platsa-weiss-60x55x120cm-50330946.php
DESCRIPTION:
UID:myauktion-7656-2442606
BEGIN:VALARM
ACTION:DISPLAY
DESCRIPTION:
TRIGGER:-PT10M
END:VALARM
END:VEVENT
END:VCALENDAR