BEGIN:VCALENDAR
VERSION:2.0
PRODID:-//Goldgrube//myauktion.com//AT
CALSCALE:GREGORIAN
BEGIN:VEVENT
DTSTART:20260506T121700
DTEND:20260506T121730
LOCATION:Gewerbepark 13, 8562 Mooskirchen
DTSTAMP:20260422T224009
SUMMARY:MyAuktion: Ablauf Artikel Nr. 957868 Diverse Schinen Model: 2x1500mm SBR20+4xSBR206UU Linear 
URL;VALUE=URI:https://www.myauktion.com/versteigerung7656-position2442607-diverse-schinen-model-2x1500mm-sbr20-4xsbr206uu-linear.php
DESCRIPTION:
UID:myauktion-7656-2442607
BEGIN:VALARM
ACTION:DISPLAY
DESCRIPTION:
TRIGGER:-PT10M
END:VALARM
END:VEVENT
END:VCALENDAR