BEGIN:VCALENDAR
VERSION:2.0
PRODID:-//Goldgrube//myauktion.com//AT
CALSCALE:GREGORIAN
BEGIN:VEVENT
DTSTART:20260506T090500
DTEND:20260506T090530
LOCATION:Gewerbepark 13, 8562 Mooskirchen
DTSTAMP:20260422T224009
SUMMARY:MyAuktion: Ablauf Artikel Nr. 956925 Ikea 2x Smastad 30x120cm 204.513.60 
URL;VALUE=URI:https://www.myauktion.com/versteigerung7656-position2442609-ikea-2x-smastad-30x120cm-20451360.php
DESCRIPTION:
UID:myauktion-7656-2442609
BEGIN:VALARM
ACTION:DISPLAY
DESCRIPTION:
TRIGGER:-PT10M
END:VALARM
END:VEVENT
END:VCALENDAR