BEGIN:VCALENDAR
VERSION:2.0
PRODID:-//Goldgrube//myauktion.com//AT
CALSCALE:GREGORIAN
BEGIN:VEVENT
DTSTART:20260506T105100
DTEND:20260506T105130
LOCATION:Gewerbepark 13, 8562 Mooskirchen
DTSTAMP:20260424T122013
SUMMARY:MyAuktion: Ablauf Artikel Nr. 957143 Zirbe 180 Fußteil - Kuffe - Salute 
URL;VALUE=URI:https://www.myauktion.com/versteigerung7656-position2442610-zirbe-180-fussteil-kuffe-salute.php
DESCRIPTION:Paket 2/3 nicht vollständig!!!
UID:myauktion-7656-2442610
BEGIN:VALARM
ACTION:DISPLAY
DESCRIPTION:Paket 2/3 nicht vollständig!!!
TRIGGER:-PT10M
END:VALARM
END:VEVENT
END:VCALENDAR