BEGIN:VCALENDAR
VERSION:2.0
PRODID:-//Goldgrube//myauktion.com//AT
CALSCALE:GREGORIAN
BEGIN:VEVENT
DTSTART:20260506T113800
DTEND:20260506T113830
LOCATION:Gewerbepark 13, 8562 Mooskirchen
DTSTAMP:20260424T122006
SUMMARY:MyAuktion: Ablauf Artikel Nr. 957609 Trimilin med-plus schwarz/silber 
URL;VALUE=URI:https://www.myauktion.com/versteigerung7656-position2442612-trimilin-med-plus-schwarz-silber.php
DESCRIPTION:
UID:myauktion-7656-2442612
BEGIN:VALARM
ACTION:DISPLAY
DESCRIPTION:
TRIGGER:-PT10M
END:VALARM
END:VEVENT
END:VCALENDAR