BEGIN:VCALENDAR
VERSION:2.0
PRODID:-//Goldgrube//myauktion.com//AT
CALSCALE:GREGORIAN
BEGIN:VEVENT
DTSTART:20260506T121800
DTEND:20260506T121830
LOCATION:Gewerbepark 13, 8562 Mooskirchen
DTSTAMP:20260422T224011
SUMMARY:MyAuktion: Ablauf Artikel Nr. 957869 Deuter Wanderrucksack 60+15 Aircontact pro ca 63x46cm  
URL;VALUE=URI:https://www.myauktion.com/versteigerung7656-position2442613-deuter-wanderrucksack-60-15-aircontact-pro-ca-63x46cm.php
DESCRIPTION:Gebraucht 
UID:myauktion-7656-2442613
BEGIN:VALARM
ACTION:DISPLAY
DESCRIPTION:Gebraucht 
TRIGGER:-PT10M
END:VALARM
END:VEVENT
END:VCALENDAR