BEGIN:VCALENDAR
VERSION:2.0
PRODID:-//Goldgrube//myauktion.com//AT
CALSCALE:GREGORIAN
BEGIN:VEVENT
DTSTART:20260506T105200
DTEND:20260506T105230
LOCATION:Gewerbepark 13, 8562 Mooskirchen
DTSTAMP:20260424T122004
SUMMARY:MyAuktion: Ablauf Artikel Nr. 957144 Pavillon Aruba 3×4
URL;VALUE=URI:https://www.myauktion.com/versteigerung7656-position2442614-pavillon-aruba-34.php
DESCRIPTION:Art.No. 62277733, Teil 3/3 Nicht Vollständig!!!
UID:myauktion-7656-2442614
BEGIN:VALARM
ACTION:DISPLAY
DESCRIPTION:Art.No. 62277733, Teil 3/3 Nicht Vollständig!!!
TRIGGER:-PT10M
END:VALARM
END:VEVENT
END:VCALENDAR