BEGIN:VCALENDAR
VERSION:2.0
PRODID:-//Goldgrube//myauktion.com//AT
CALSCALE:GREGORIAN
BEGIN:VEVENT
DTSTART:20260506T113900
DTEND:20260506T113930
LOCATION:Gewerbepark 13, 8562 Mooskirchen
DTSTAMP:20260424T122005
SUMMARY:MyAuktion: Ablauf Artikel Nr. 957610 Amazon Basic Bürostuhl 
URL;VALUE=URI:https://www.myauktion.com/versteigerung7656-position2442615-amazon-basic-buerostuhl.php
DESCRIPTION:Gebraucht .Verpackung beschädigt ,einige Teile können fehlen .
UID:myauktion-7656-2442615
BEGIN:VALARM
ACTION:DISPLAY
DESCRIPTION:Gebraucht .Verpackung beschädigt ,einige Teile können fehlen .
TRIGGER:-PT10M
END:VALARM
END:VEVENT
END:VCALENDAR