BEGIN:VCALENDAR
VERSION:2.0
PRODID:-//Goldgrube//myauktion.com//AT
CALSCALE:GREGORIAN
BEGIN:VEVENT
DTSTART:20260506T121900
DTEND:20260506T121930
LOCATION:Gewerbepark 13, 8562 Mooskirchen
DTSTAMP:20260423T002502
SUMMARY:MyAuktion: Ablauf Artikel Nr. 957870 Seven Summits Schlafmatte ca 147cm blau 
URL;VALUE=URI:https://www.myauktion.com/versteigerung7656-position2442616-seven-summits-schlafmatte-ca-147cm-blau.php
DESCRIPTION:<div>Gebraucht</div>
UID:myauktion-7656-2442616
BEGIN:VALARM
ACTION:DISPLAY
DESCRIPTION:<div>Gebraucht</div>
TRIGGER:-PT10M
END:VALARM
END:VEVENT
END:VCALENDAR