BEGIN:VCALENDAR
VERSION:2.0
PRODID:-//Goldgrube//myauktion.com//AT
CALSCALE:GREGORIAN
BEGIN:VEVENT
DTSTART:20260506T105300
DTEND:20260506T105330
LOCATION:Gewerbepark 13, 8562 Mooskirchen
DTSTAMP:20260424T122006
SUMMARY:MyAuktion: Ablauf Artikel Nr. 957145 Zara Home Schüssel Sets 7-Teilig 
URL;VALUE=URI:https://www.myauktion.com/versteigerung7656-position2442620-zara-home-schuessel-sets-7-teilig.php
DESCRIPTION:Durchmesser ca 18,5cm
UID:myauktion-7656-2442620
BEGIN:VALARM
ACTION:DISPLAY
DESCRIPTION:Durchmesser ca 18,5cm
TRIGGER:-PT10M
END:VALARM
END:VEVENT
END:VCALENDAR